BEGIN:VCALENDAR
VERSION:2.0
CALSCALE:GREGORIAN
PRODID:-//Diputació de Barcelona//DibaCMS//EN
BEGIN:VEVENT
UID:359
DTSTAMP:20260422T104427
DTSTART:20170207T203000
DTEND:20180207T204000
SUMMARY:Programa de Garantia Juvenil
LOCATION:
METHOD:PUBLISH
X-WR-CALNAME:ccmoianes@ccmoianes.cat
X-WR-TIMEZONE:Europe/Madrid
DESCRIPTION:Tens entre 16 i 29 anys? Ja has acabat els teus estudis? I ara què? Vine al Consell Comarcal del Moianès i t'ajudarem a complir la teva meta. 

 

URI:https://www.ccmoianes.cat/actualitat/noticies/programa-de-garantia-juvenil.html
CLASS:PUBLIC
END:VEVENT
END:VCALENDAR
