BEGIN:VCALENDAR
VERSION:2.0
CALSCALE:GREGORIAN
PRODID:-//Diputació de Barcelona//DibaCMS//EN
BEGIN:VEVENT
UID:2863
DTSTAMP:20260423T162630
DTSTART:20260423T000000
DTEND:20270423T000000
SUMMARY:TAD - Transport a demanda al Moianès
LOCATION:
METHOD:PUBLISH
X-WR-CALNAME:ccmoianes@ccmoianes.cat
X-WR-TIMEZONE:Europe/Madrid
DESCRIPTION:Com funciona aquest servei?

És un sevei sota demanda. Això vol dir que l'autobús no passarà per cap parada si prèviament l'usuari no ha fet una reserva per a un parada i expedició en concret.

URI:https://www.ccmoianes.cat/actualitat/noticies/tad-transport-a-demanda-al-moianes.html
CLASS:PUBLIC
END:VEVENT
END:VCALENDAR
