BEGIN:VCALENDAR
VERSION:2.0
CALSCALE:GREGORIAN
PRODID:-//Diputació de Barcelona//DibaCMS//EN
BEGIN:VEVENT
UID:2860
DTSTAMP:20260423T162507
DTSTART:20260423T080000
DTEND:20260822T000000
SUMMARY:Convocatòria del procés selectiu pel nomenament mitjançant la modalitat de funcionari interí per programa, per a cobrir temporalment el lloc de treball de tècnic/a de suport de gestió (A2) de l'Àrea d'Administració General.
LOCATION:
METHOD:PUBLISH
X-WR-CALNAME:ccmoianes@ccmoianes.cat
X-WR-TIMEZONE:Europe/Madrid
DESCRIPTION:Mitjançant Decret de Presidència 2026-0119 de 20 d’abril de 2026, s’aprova la convocatòria pública i les bases reguladores que han de regir les proves selectives del procés selectiu, per màxima urgència, pel nomenament mitjançant la modalitat de funcionari interí per programa, per a cobrir temporalment el lloc de treball de Tècnic/a de Suport de Gestió (A2), de l’Àrea d’Administració General del Consell Comarcal del Moianès, i constitució d’una borsa de treball comarcal.

Per més informació cliqueu AQUÍ

Termini de presentació de sol·licituds: fins el 8 de maig de 2026.

URI:https://www.ccmoianes.cat/actualitat/noticies/convocatoria-del-proces-selectiu-pel-nomenament-mitjancant-la-modalitat-de-funcionari-interi-per-programa-per-a-cobrir-temporalment-el-lloc-de-treball-de-tecnica-de-suport-de-gestio-a2-de-larea-dadministracio-general.html
CLASS:PUBLIC
END:VEVENT
END:VCALENDAR
