BEGIN:VCALENDAR
VERSION:2.0
CALSCALE:GREGORIAN
PRODID:-//Diputació de Barcelona//DibaCMS//EN
BEGIN:VEVENT
UID:2859
DTSTAMP:20260423T163047
DTSTART:20260422T204000
DTEND:20270422T000000
SUMMARY:Jornada: "Ocupa't al Moianès: recuperem els oficis!
LOCATION:
METHOD:PUBLISH
X-WR-CALNAME:ccmoianes@ccmoianes.cat
X-WR-TIMEZONE:Europe/Madrid
DESCRIPTION:El dimarts 28 d’abril a l'Auditori de Sant Josep de Moià, de 6 de la tarda a 8 del vespre, es realitzarà la Jornada “Ocupa’t al Moianès: Recuperem els oficis!”, en el marc del projecte innovador i experimental del Servei d’Ocupació de Catalunya: Connectem Moianès: revitalització dels oficis tradicionals al sector industrial.

URI:https://www.ccmoianes.cat/actualitat/noticies/jornada-ocupat-al-moianes-recuperem-els-oficis.html
CLASS:PUBLIC
END:VEVENT
END:VCALENDAR
