BEGIN:VCALENDAR
VERSION:2.0
CALSCALE:GREGORIAN
PRODID:-//Diputació de Barcelona//DibaCMS//EN
BEGIN:VEVENT
UID:2858
DTSTAMP:20260423T162641
DTSTART:20260422T000000
DTEND:20270422T000000
SUMMARY:Jornada: "El transport a demanda (TAD), una solució a la mobilitat al món rural"
LOCATION:
METHOD:PUBLISH
X-WR-CALNAME:ccmoianes@ccmoianes.cat
X-WR-TIMEZONE:Europe/Madrid
DESCRIPTION:El passat 16 d'abril a L'Estany, el Consell Comarcal del Moianès va participar en la jornada: "El transport a demanda (TAD), una solució a la mobilitat al món rural", organitzada per AMTU- Associació de municipis per la Mobilitat i el Transport Urbà, conjuntament amb Micropobles i amb el suport de l'ATM de Barcelona i ARCA.

La jornada va abordar les necessitats d'un transport a demanda efectiu.

 

URI:https://www.ccmoianes.cat/actualitat/noticies/jornada-el-transport-a-demanda-tad-una-solucio-a-la-mobilitat-al-mon-rural.html
CLASS:PUBLIC
END:VEVENT
END:VCALENDAR
