BEGIN:VCALENDAR
VERSION:2.0
CALSCALE:GREGORIAN
PRODID:-//Diputació de Barcelona//DibaCMS//EN
BEGIN:VEVENT
UID:2855
DTSTAMP:20260420T153312
DTSTART:20260420T080000
DTEND:20280503T000000
SUMMARY:Comissió de Govern de 20 d'abril de 2026
LOCATION:
METHOD:PUBLISH
X-WR-CALNAME:ccmoianes@ccmoianes.cat
X-WR-TIMEZONE:Europe/Madrid
DESCRIPTION:Avui, 20 d'abril, a partir de les 19:00h a la seu del Consell Comarcal del Moianès.

Comissió de Govern en acte públic, corresponent als punts que es van delegar per Ple a la Comissió de Govern segons acord de 25 de setembre de 2023: Punts 2, 3 i 4 de l'ordre del dia.

Anunci de la convocatòria (cliqueu aquí).

URI:https://www.ccmoianes.cat/actualitat/noticies/comissio-de-govern-de-20-dabril-de-2026.html
CLASS:PUBLIC
END:VEVENT
END:VCALENDAR
