BEGIN:VCALENDAR
VERSION:2.0
CALSCALE:GREGORIAN
PRODID:-//Diputació de Barcelona//DibaCMS//EN
BEGIN:VEVENT
UID:2801
DTSTAMP:20260426T024951
DTSTART:20260125T180000
DTEND:20260125T200000
SUMMARY:El petit príncep - Castellterçol
LOCATION:
METHOD:PUBLISH
X-WR-CALNAME:ccmoianes@ccmoianes.cat
X-WR-TIMEZONE:Europe/Madrid
DESCRIPTION:Al Centre Espai Escènic

 

URI:https://www.ccmoianes.cat/actualitat/activitats/el-petit-princep-castelltercol.html
CLASS:PUBLIC
END:VEVENT
END:VCALENDAR
