BEGIN:VCALENDAR
VERSION:2.0
CALSCALE:GREGORIAN
PRODID:-//Diputació de Barcelona//DibaCMS//EN
BEGIN:VEVENT
UID:2696
DTSTAMP:20260423T222005
DTSTART:20250630T000000
DTEND:20250706T000000
SUMMARY:Universitat d'Estiu del Moianès 2025
LOCATION:
METHOD:PUBLISH
X-WR-CALNAME:ccmoianes@ccmoianes.cat
X-WR-TIMEZONE:Europe/Madrid
DESCRIPTION:Del 30 de juny al 6 de juliol!

Programa sencer i inscripcions

URI:https://www.ccmoianes.cat/actualitat/activitats/universitat-destiu-del-moianes-2025.html
CLASS:PUBLIC
END:VEVENT
END:VCALENDAR
