BEGIN:VCALENDAR
VERSION:2.0
CALSCALE:GREGORIAN
PRODID:-//Diputació de Barcelona//DibaCMS//EN
BEGIN:VEVENT
UID:2567
DTSTAMP:20260420T095405
DTSTART:20240910T143000
DTEND:20280404T000000
SUMMARY:Convocatòria per a la selecció de 6 persones per a ser contractada en el marc del Programa Treball i Formació, línies DONA, PANP, MG52 I PRGC, i constitució d’ una borsa comarcal.
LOCATION:
METHOD:PUBLISH
X-WR-CALNAME:ccmoianes@ccmoianes.cat
X-WR-TIMEZONE:Europe/Madrid
DESCRIPTION:Mitjançant Decret de Presidència 2024-0344 de data 27 d’agost de 2024, s’aproven les bases reguladores i la convocatòria del procés selectiu per màxima urgència,  per a la selecció de 6 persones per a ser contractada en el marc del Programa Treball i Formació, línies DONA, PANP, MG52 I PRGC, i constitució d’ una borsa comarcal  i per altres programes de foment d’ocupació.

Per més informació cliqueu AQUÍ

Termini de presentació de sol·licituds: fins el 25 de setembre de 2024.

URI:https://www.ccmoianes.cat/actualitat/noticies/convocatoria-per-a-la-seleccio-de-6-persones-per-a-ser-contractada-en-el-marc-del-programa-treball-i-formacio-linies-dona-panp-mg52-i-prgc-i-constitucio-d-una-borsa-comarcal.html
CLASS:PUBLIC
END:VEVENT
END:VCALENDAR
