BEGIN:VCALENDAR
VERSION:2.0
CALSCALE:GREGORIAN
PRODID:-//Diputació de Barcelona//DibaCMS//EN
BEGIN:VEVENT
UID:1860
DTSTAMP:20260426T043318
DTSTART:20211122T090000
DTEND:20220811T000000
SUMMARY:Convocatòria del procés selectiu per a la constitució d'una borsa de treball de tècnics/iques de Desenvolupament Econòmic
LOCATION:
METHOD:PUBLISH
X-WR-CALNAME:ccmoianes@ccmoianes.cat
X-WR-TIMEZONE:Europe/Madrid
DESCRIPTION:Mitjançant Decret de Presidència núm. 2021-0438, de 18 de novembre, s’han aprovat les bases del procés selectiu per a la constitució d’una borsa de Tècnics/ques de Desenvolupament Econòmic per al Consell Comarcal i el Consorci del Moianès, així com per als Ajuntaments adherits a la Borsa comarcal mitjançant conveni.

Podeu accedir a tota la informació clicant aquí.

Termini per a la presentació de sol·licituds: fins el 2 de desembre de 2021.

URI:https://www.ccmoianes.cat/actualitat/noticies/convocatoria-del-proces-selectiu-per-a-la-constitucio-duna-borsa-de-treball-de-tecnicsiques-de-desenvolupament-economic.html
CLASS:PUBLIC
END:VEVENT
END:VCALENDAR
