BEGIN:VCALENDAR
VERSION:2.0
CALSCALE:GREGORIAN
PRODID:-//Diputació de Barcelona//DibaCMS//EN
BEGIN:VEVENT
UID:1827
DTSTAMP:20260421T045129
DTSTART:20211017T000000
DTEND:20221025T000000
SUMMARY:SELECCIÓ DE PERSONAL: Convocatòria oferta de treball “Joves en pràctiques” al Museu de Moià dins el programa de Garantia Juvenil
LOCATION:
METHOD:PUBLISH
X-WR-CALNAME:ccmoianes@ccmoianes.cat
X-WR-TIMEZONE:Europe/Madrid
DESCRIPTION:L'Ajuntament de Moià obra convocatòria urgent per a la contractació temporal d’un jove en pràctiques menor de 30 anys, com a tècnic/a o auxiliar de cultura al Museu de Moià i al Parc Prehistòric de les Coves del Toll. 

Termini per a la presentació de sol·licituds: fins el 25 d'octubre de 2021 (inclòs) 

Més informació i model instància de la convocatòria aquí 

URI:https://www.ccmoianes.cat/actualitat/noticies/seleccio-de-personal-convocatoria-oferta-de-treball-joves-en-practiques-al-museu-de-moia-dins-el-programa-de-garantia-juvenil.html
CLASS:PUBLIC
END:VEVENT
END:VCALENDAR
